BEGIN:VCALENDAR
VERSION:2.0
PRODID:-//Tukios.com/
BEGIN:VEVENT
UID:3c42a6d1-92f3-4f59-ace4-44b72ed80a3f@www.caldwellandcowan.com
DTSTAMP:20260421T163912Z
DTSTART:20260423T170000Z
DTEND:20260423T180000Z
SUMMARY:Funeral Service
DESCRIPTION:
URL:https://www.caldwellandcowan.com/obituaries/kenneth-walker-jr
LOCATION: 1169 Clark Street Southwest  Covington GA 30014
GEO:33.5964623;-83.8616251
END:VEVENT
END:VCALENDAR