BEGIN:VCALENDAR
VERSION:2.0
PRODID:-//Tukios.com/
BEGIN:VEVENT
UID:19c9cb30-a35a-434f-a463-c90762fd9558@www.caldwellandcowan.com
DTSTAMP:20260421T164636Z
DTSTART:20260423T160000Z
DTEND:20260423T170000Z
SUMMARY:Visitation
DESCRIPTION:
URL:https://www.caldwellandcowan.com/obituaries/kenneth-walker-jr
LOCATION: 1169 Clark Street Southwest  Covington GA 30014
GEO:33.5964623;-83.8616251
END:VEVENT
END:VCALENDAR