BEGIN:VCALENDAR
VERSION:2.0
PRODID:-//Tukios.com/
BEGIN:VEVENT
UID:a4c794e6-f501-4c0d-9350-06391ff81a57@www.caldwellandcowan.com
DTSTAMP:20260420T214700Z
DTSTART:20260421T140000Z
DTEND:20260421T150000Z
SUMMARY:Visitation
DESCRIPTION:
URL:https://www.caldwellandcowan.com/obituaries/james-ward
LOCATION: 1215 Access Road  Covington GA 30014
GEO:33.610833;-83.8910717
END:VEVENT
END:VCALENDAR