BEGIN:VCALENDAR
VERSION:2.0
PRODID:-//Tukios.com/
BEGIN:VEVENT
UID:c2c4a059-01da-4968-9ca7-38eee66614bb@www.caldwellandcowan.com
DTSTAMP:20260420T214819Z
DTSTART:20260421T150000Z
DTEND:20260421T160000Z
SUMMARY:Funeral Service
DESCRIPTION:
URL:https://www.caldwellandcowan.com/obituaries/james-ward
LOCATION: 1215 Access Road  Covington GA 30014
GEO:33.610833;-83.8910717
END:VEVENT
END:VCALENDAR