BEGIN:VCALENDAR
VERSION:2.0
PRODID:-//Tukios.com/
BEGIN:VEVENT
UID:127c9540-7455-4a67-9fb2-ee248528aeea@www.caldwellandcowan.com
DTSTAMP:20260422T214113Z
DTSTART:20260501T160000Z
DTEND:20260501T170000Z
SUMMARY:Funeral Service
DESCRIPTION:
URL:https://www.caldwellandcowan.com/obituaries/carol-gibbs
LOCATION:Church at the Grove 1050 Walnut Grove Parkway  Walnut Grove GA 
	30052
GEO:33.7483565;-83.8512106
END:VEVENT
END:VCALENDAR