BEGIN:VCALENDAR
VERSION:2.0
PRODID:-//Tukios.com/
BEGIN:VEVENT
UID:1481c9f3-b245-4b4f-a37b-c5d90d6c97be@www.caldwellandcowan.com
DTSTAMP:20260422T213537Z
DTSTART:20260501T140000Z
DTEND:20260501T160000Z
SUMMARY:Visitation
DESCRIPTION:
URL:https://www.caldwellandcowan.com/obituaries/carol-gibbs
LOCATION:Church at the Grove 1050 Walnut Grove Parkway  Walnut Grove GA 
	30052
GEO:33.7483565;-83.8512106
END:VEVENT
END:VCALENDAR